BEGIN:VCALENDAR
VERSION:2.0
PRODID:-//Institut Méditerranéen d&#039;Océanologie - ECPv6.15.20//NONSGML v1.0//EN
CALSCALE:GREGORIAN
METHOD:PUBLISH
X-WR-CALNAME:Institut Méditerranéen d&#039;Océanologie
X-ORIGINAL-URL:https://www.mio.osupytheas.fr/en
X-WR-CALDESC:Events for Institut Méditerranéen d&#039;Océanologie
REFRESH-INTERVAL;VALUE=DURATION:PT1H
X-Robots-Tag:noindex
X-PUBLISHED-TTL:PT1H
BEGIN:VTIMEZONE
TZID:Europe/Paris
BEGIN:DAYLIGHT
TZOFFSETFROM:+0100
TZOFFSETTO:+0200
TZNAME:CEST
DTSTART:20250330T010000
END:DAYLIGHT
BEGIN:STANDARD
TZOFFSETFROM:+0200
TZOFFSETTO:+0100
TZNAME:CET
DTSTART:20251026T010000
END:STANDARD
BEGIN:DAYLIGHT
TZOFFSETFROM:+0100
TZOFFSETTO:+0200
TZNAME:CEST
DTSTART:20260329T010000
END:DAYLIGHT
BEGIN:STANDARD
TZOFFSETFROM:+0200
TZOFFSETTO:+0100
TZNAME:CET
DTSTART:20261025T010000
END:STANDARD
BEGIN:DAYLIGHT
TZOFFSETFROM:+0100
TZOFFSETTO:+0200
TZNAME:CEST
DTSTART:20270328T010000
END:DAYLIGHT
BEGIN:STANDARD
TZOFFSETFROM:+0200
TZOFFSETTO:+0100
TZNAME:CET
DTSTART:20271031T010000
END:STANDARD
END:VTIMEZONE
BEGIN:VEVENT
DTSTART;TZID=Europe/Paris:20260424T080000
DTEND;TZID=Europe/Paris:20260427T170000
DTSTAMP:20260426T013319
CREATED:20260212T202025Z
LAST-MODIFIED:20260212T202059Z
UID:25159-1777017600-1777309200@www.mio.osupytheas.fr
SUMMARY:City Nature Challenge 2026 : relevez le défi avec Marseille !
DESCRIPTION:Du 24 au 27 avril 2026\, la Ville de Marseille participe à nouveau avec Aix-Marseille Université au City Nature Challenge ! \nAux côtés de centaines d’autres villes dans le monde entier\, la Ville de Marseille va relever le défi lancé par l’Académie des sciences de Californie et le Muséum d’histoire naturelle du Comté de Los Angeles pour valoriser et préserver la biodiversité en collectant le plus d’observations possibles d’espèces végétales et animales à Marseille avec iNaturalist. En participant\, chacun peut découvrir et faire savoir l’incroyable richesse naturelle de notre territoire communal\, à terre\, sur le littoral et en mer. \nLa Ville de Marseille donne rendez-vous aux Marseillaises et aux Marseillais pour cette nouvelle édition avec l’objectif de franchir la barre des 15 000 observations citoyennes pour la connaissance et la préservation durable de la biodiversité ! Pour l’occasion\, une très riche programmation d’animations vous attend grâce à tous les partenaires mobilisés. \n\nEn savoir plus
URL:https://www.mio.osupytheas.fr/en/agenda/city-nature-challenge-2026/
CATEGORIES:Evénement,Médiation scientifique
ATTACH;FMTTYPE=image/png:https://www.mio.osupytheas.fr/wp-content/uploads/2026/02/massif_etoile-pano.png
END:VEVENT
BEGIN:VEVENT
DTSTART;TZID=Europe/Paris:20260425T080000
DTEND;TZID=Europe/Paris:20260426T170000
DTSTAMP:20260426T013319
CREATED:20260413T131158Z
LAST-MODIFIED:20260413T132345Z
UID:25952-1777104000-1777222800@www.mio.osupytheas.fr
SUMMARY:Village de stands - Quel littoral pour demain ?
DESCRIPTION:Pour les 72h de l’écologie\, l’association Un Prétexte vous invite à plonger au cœur de la protection de la Méditerranée pendant deux jours à Cosquer Méditerranée les samedi 25 et dimanche 26 avril 2026. \nInscription obligatoire sur Helloasso \nEntre stands interactifs\, expositions\, ateliers créatifs et animations pour les petits et grands\, découvrez comment protéger notre mer\, notre littoral et la biodiversité marine… tout en rencontrant les acteurs qui agissent au quotidien. \nAu programme : stands interactifs\, expositions\, ateliers créatifs\, animations pour petits et grands… Inscription gratuite (mais obligatoire) \nLouise Merquiol post-doctorante au MIO OSU Pythéas aura le plaisir de vous y retrouver le dimanche 26 avril pour un atelier créatif unique\, où vous imaginerez ensemble la biodiversité de demain. \nVenez nombreux\, curiosité et créativité bienvenues !
URL:https://www.mio.osupytheas.fr/en/agenda/village-de-stands-quel-littoral-pour-demain/
LOCATION:Cosquer Méditerranée\, Promenade Robert Laffont\, Marseille\, 13002\, France
CATEGORIES:Evénement,Médiation scientifique
ATTACH;FMTTYPE=image/png:https://www.mio.osupytheas.fr/wp-content/uploads/2026/04/1776073023550.png
END:VEVENT
END:VCALENDAR