BEGIN:VCALENDAR
VERSION:2.0
PRODID:-//Institut Méditerranéen d&#039;Océanologie - ECPv6.15.20//NONSGML v1.0//EN
CALSCALE:GREGORIAN
METHOD:PUBLISH
X-ORIGINAL-URL:https://www.mio.osupytheas.fr/fr
X-WR-CALDESC:Évènements pour Institut Méditerranéen d&#039;Océanologie
REFRESH-INTERVAL;VALUE=DURATION:PT1H
X-Robots-Tag:noindex
X-PUBLISHED-TTL:PT1H
BEGIN:VTIMEZONE
TZID:Europe/Paris
BEGIN:DAYLIGHT
TZOFFSETFROM:+0100
TZOFFSETTO:+0200
TZNAME:CEST
DTSTART:20250330T010000
END:DAYLIGHT
BEGIN:STANDARD
TZOFFSETFROM:+0200
TZOFFSETTO:+0100
TZNAME:CET
DTSTART:20251026T010000
END:STANDARD
BEGIN:DAYLIGHT
TZOFFSETFROM:+0100
TZOFFSETTO:+0200
TZNAME:CEST
DTSTART:20260329T010000
END:DAYLIGHT
BEGIN:STANDARD
TZOFFSETFROM:+0200
TZOFFSETTO:+0100
TZNAME:CET
DTSTART:20261025T010000
END:STANDARD
BEGIN:DAYLIGHT
TZOFFSETFROM:+0100
TZOFFSETTO:+0200
TZNAME:CEST
DTSTART:20270328T010000
END:DAYLIGHT
BEGIN:STANDARD
TZOFFSETFROM:+0200
TZOFFSETTO:+0100
TZNAME:CET
DTSTART:20271031T010000
END:STANDARD
END:VTIMEZONE
BEGIN:VEVENT
DTSTART;TZID=Europe/Paris:20260119T090000
DTEND;TZID=Europe/Paris:20260119T170000
DTSTAMP:20260420T142340
CREATED:20251107T134306Z
LAST-MODIFIED:20251107T134521Z
UID:23864-1768813200-1768842000@www.mio.osupytheas.fr
SUMMARY:Les Rencontres de l’Économie Bleue
DESCRIPTION:Cette année\, l’Institut Océan organise pour la première fois les Rencontres de l’Économie Bleu !\nCet évènement\, qui aura lieu le 19 janvier 2026 au Palais du Pharo à Marseille\, aura pour but de réunir les acteurs du monde socio-économique et académique autour des grand enjeux maritimes\, et de promouvoir la collaboration entre ces deux mondes. \nConférences\, Stands\, Tables rondes thématiques\, Moments d’échanges : Une journée pour croiser les regards\, partager les innovations et imaginer ensemble un avenir maritime plus durable. \n \nS’inscrire
URL:https://www.mio.osupytheas.fr/fr/agenda/les-rencontres-de-leconomie-bleue/
LOCATION:13190
CATEGORIES:Conférences,Evénement,Table ronde
ATTACH;FMTTYPE=image/png:https://www.mio.osupytheas.fr/wp-content/uploads/2025/11/rencontreseconomiebleue2026.png
END:VEVENT
END:VCALENDAR