BEGIN:VCALENDAR
VERSION:2.0
PRODID:-//Institut Méditerranéen d&#039;Océanologie - ECPv6.15.20//NONSGML v1.0//EN
CALSCALE:GREGORIAN
METHOD:PUBLISH
X-ORIGINAL-URL:https://www.mio.osupytheas.fr/fr
X-WR-CALDESC:Évènements pour Institut Méditerranéen d&#039;Océanologie
REFRESH-INTERVAL;VALUE=DURATION:PT1H
X-Robots-Tag:noindex
X-PUBLISHED-TTL:PT1H
BEGIN:VTIMEZONE
TZID:Europe/Paris
BEGIN:DAYLIGHT
TZOFFSETFROM:+0100
TZOFFSETTO:+0200
TZNAME:CEST
DTSTART:20240331T010000
END:DAYLIGHT
BEGIN:STANDARD
TZOFFSETFROM:+0200
TZOFFSETTO:+0100
TZNAME:CET
DTSTART:20241027T010000
END:STANDARD
BEGIN:DAYLIGHT
TZOFFSETFROM:+0100
TZOFFSETTO:+0200
TZNAME:CEST
DTSTART:20250330T010000
END:DAYLIGHT
BEGIN:STANDARD
TZOFFSETFROM:+0200
TZOFFSETTO:+0100
TZNAME:CET
DTSTART:20251026T010000
END:STANDARD
BEGIN:DAYLIGHT
TZOFFSETFROM:+0100
TZOFFSETTO:+0200
TZNAME:CEST
DTSTART:20260329T010000
END:DAYLIGHT
BEGIN:STANDARD
TZOFFSETFROM:+0200
TZOFFSETTO:+0100
TZNAME:CET
DTSTART:20261025T010000
END:STANDARD
END:VTIMEZONE
BEGIN:VEVENT
DTSTART;TZID=Europe/Paris:20251218T123000
DTEND;TZID=Europe/Paris:20251218T180000
DTSTAMP:20260420T175445
CREATED:20251205T153039Z
LAST-MODIFIED:20251205T153451Z
UID:24284-1766061000-1766080800@www.mio.osupytheas.fr
SUMMARY:Rencontre nationale mobilités durables du CNRS - Recherche\, politiques publiques\, usagers : regards croisés sur la mobilité à vélo
DESCRIPTION:Le CNRS organise une rencontre « mobilités durables » sur le vélo. L’objectif est de valoriser les initiatives en faveur du vélo dans les délégations et les laboratoires\, mais aussi de faire faire dialoguer : recherche\, politiques publiques et usagers du vélo.\n\nRendez-vous le 18 décembre 2025 de 12h30 à 17h\, à l’auditorium du siège du CNRS.\n\nL’inscription est obligatoire.\n\n 	En présentiel : Auditorium Marie Curie\, siège du CNRS\, 3 rue Michel Ange\, Paris 16e\n 	En distanciel : un lien Zoom vous sera envoyé ultérieurement suite à votre inscription\n\n \nEn savoir plus 
URL:https://www.mio.osupytheas.fr/fr/agenda/rencontre-nationale-mobilites-durables-du-cnrs-recherche-politiques-publiques-usagers-regards-croises-sur-la-mobilite-a-velo/
LOCATION:CNRS\, 3 rue Michel Ange\, Paris\, 75016
CATEGORIES:Conférences,Evénement,Table ronde
ATTACH;FMTTYPE=image/png:https://www.mio.osupytheas.fr/wp-content/uploads/2024/02/logocnrs2023bleu-imageonline.co-7272407.png
END:VEVENT
END:VCALENDAR