BEGIN:VCALENDAR
VERSION:2.0
PRODID:-//Institut Méditerranéen d&#039;Océanologie - ECPv6.15.20//NONSGML v1.0//EN
CALSCALE:GREGORIAN
METHOD:PUBLISH
X-ORIGINAL-URL:https://www.mio.osupytheas.fr/fr
X-WR-CALDESC:Évènements pour Institut Méditerranéen d&#039;Océanologie
REFRESH-INTERVAL;VALUE=DURATION:PT1H
X-Robots-Tag:noindex
X-PUBLISHED-TTL:PT1H
BEGIN:VTIMEZONE
TZID:Europe/Paris
BEGIN:DAYLIGHT
TZOFFSETFROM:+0100
TZOFFSETTO:+0200
TZNAME:CEST
DTSTART:20240331T010000
END:DAYLIGHT
BEGIN:STANDARD
TZOFFSETFROM:+0200
TZOFFSETTO:+0100
TZNAME:CET
DTSTART:20241027T010000
END:STANDARD
BEGIN:DAYLIGHT
TZOFFSETFROM:+0100
TZOFFSETTO:+0200
TZNAME:CEST
DTSTART:20250330T010000
END:DAYLIGHT
BEGIN:STANDARD
TZOFFSETFROM:+0200
TZOFFSETTO:+0100
TZNAME:CET
DTSTART:20251026T010000
END:STANDARD
BEGIN:DAYLIGHT
TZOFFSETFROM:+0100
TZOFFSETTO:+0200
TZNAME:CEST
DTSTART:20260329T010000
END:DAYLIGHT
BEGIN:STANDARD
TZOFFSETFROM:+0200
TZOFFSETTO:+0100
TZNAME:CET
DTSTART:20261025T010000
END:STANDARD
END:VTIMEZONE
BEGIN:VEVENT
DTSTART;TZID=Europe/Paris:20250616T080000
DTEND;TZID=Europe/Paris:20250627T170000
DTSTAMP:20260420T235456
CREATED:20250211T174643Z
LAST-MODIFIED:20250211T174746Z
UID:19377-1750060800-1751043600@www.mio.osupytheas.fr
SUMMARY:Summer School - Population Balance: From Fundamental to Applied Science
DESCRIPTION:This summer school is part of the POPULATE thematic semester\, dedicated to population dynamics. As one of the three flagship events of the program\, it aims to provide modern insights into key concepts related to population dynamics. Topics will cover a wide range of applications\, including plants\, insects\, birds\, fish\, crowd dynamics\, traffic flows\, viruses\, bubbles\, and nanoparticles. \nRegistrations are open from September 1\, 2024\, to March 1\, 2025. \nSupported by the Complex Systems Academy of Université Côte d’Azur\, this summer school\, titled Population Balance: From Fundamental to Applied Science\, will feature morning sessions with mini-courses taught by experts from fields such as mathematics\, physics\, biology\, engineering\, and chemistry. In the afternoons\, participants will work in small groups on original research projects\, guided by local teachers and researchers. \n \nMore information
URL:https://www.mio.osupytheas.fr/fr/agenda/summer-school-population-balance-from-fundamental-to-applied-science/
CATEGORIES:Ecoles - Formations,Evénement
ATTACH;FMTTYPE=image/png:https://www.mio.osupytheas.fr/wp-content/uploads/2025/02/Logo_populate_school-768x1180-1.png
END:VEVENT
END:VCALENDAR