BEGIN:VCALENDAR
VERSION:2.0
PRODID:-//Institut Méditerranéen d&#039;Océanologie - ECPv6.15.20//NONSGML v1.0//EN
CALSCALE:GREGORIAN
METHOD:PUBLISH
X-ORIGINAL-URL:https://www.mio.osupytheas.fr/fr
X-WR-CALDESC:Évènements pour Institut Méditerranéen d&#039;Océanologie
REFRESH-INTERVAL;VALUE=DURATION:PT1H
X-Robots-Tag:noindex
X-PUBLISHED-TTL:PT1H
BEGIN:VTIMEZONE
TZID:Europe/Paris
BEGIN:DAYLIGHT
TZOFFSETFROM:+0100
TZOFFSETTO:+0200
TZNAME:CEST
DTSTART:20250330T010000
END:DAYLIGHT
BEGIN:STANDARD
TZOFFSETFROM:+0200
TZOFFSETTO:+0100
TZNAME:CET
DTSTART:20251026T010000
END:STANDARD
BEGIN:DAYLIGHT
TZOFFSETFROM:+0100
TZOFFSETTO:+0200
TZNAME:CEST
DTSTART:20260329T010000
END:DAYLIGHT
BEGIN:STANDARD
TZOFFSETFROM:+0200
TZOFFSETTO:+0100
TZNAME:CET
DTSTART:20261025T010000
END:STANDARD
BEGIN:DAYLIGHT
TZOFFSETFROM:+0100
TZOFFSETTO:+0200
TZNAME:CEST
DTSTART:20270328T010000
END:DAYLIGHT
BEGIN:STANDARD
TZOFFSETFROM:+0200
TZOFFSETTO:+0100
TZNAME:CET
DTSTART:20271031T010000
END:STANDARD
END:VTIMEZONE
BEGIN:VEVENT
DTSTART;TZID=Europe/Paris:20260310T080000
DTEND;TZID=Europe/Paris:20260310T170000
DTSTAMP:20260421T022430
CREATED:20260224T151700Z
LAST-MODIFIED:20260306T125426Z
UID:24882-1773129600-1773162000@www.mio.osupytheas.fr
SUMMARY:Séminaire 2026 de l'OHM Littoral méditerranéen
DESCRIPTION:Le séminaire annuel 2026 de l’OHM Littoral méditerranéen se tiendra le mardi 10 mars 2026\, à Marseille\, stade nautique Florence Artaud. \nL’Observatoire Hommes-Milieux Littoral méditerranéen est un dispositif de recherche interdisciplinaire des instituts CNRS Écologie & Environnement et Sciences humaines & sociales\, bénéficiaire des investissements d’avenir dans le cadre du laboratoire d’excellence DRIIHM. \nChaque année il organise un séminaire d’échanges autour des travaux de recherche qu’il subventionne. \nSon projet scientifique est l’étude de l’urbanisation et de l’anthropisation côtière en Méditerranée. Dans un contexte de changement des modes de gestion du littoral (GIZC)\, il s’intéresse à quatre systèmes socio-écologiques littoraux inégalement soumis à l’artificialisation et aux fréquentations touristiques et récréatives : le Golfe d’Aigues-Mortes\, le littoral marseillais\, les rivages corses de Balagne et la lagune de Biguglia. \n\nEn savoir plus\n \n\n 
URL:https://www.mio.osupytheas.fr/fr/agenda/seminaire-2026-de-lohm-littoral-mediterraneen/
LOCATION:Marseille\, Aix-Marseille Université - Faculté des Sciences - Campus de St Charles - 4 Pl. Victor Hugo\, Marseille\, 13003\, France
CATEGORIES:Save the date MIO Hebdo,Séminaires
ATTACH;FMTTYPE=image/png:https://www.mio.osupytheas.fr/wp-content/uploads/2026/01/Capture.png
END:VEVENT
END:VCALENDAR